BEGIN:VCALENDAR
VERSION:2.0
PRODID:-//Deborah Lee Luskin - ECPv6.15.20//NONSGML v1.0//EN
CALSCALE:GREGORIAN
METHOD:PUBLISH
X-WR-CALNAME:Deborah Lee Luskin
X-ORIGINAL-URL:https://www.deborahleeluskin.com
X-WR-CALDESC:Events for Deborah Lee Luskin
REFRESH-INTERVAL;VALUE=DURATION:PT1H
X-Robots-Tag:noindex
X-PUBLISHED-TTL:PT1H
BEGIN:VTIMEZONE
TZID:America/New_York
BEGIN:DAYLIGHT
TZOFFSETFROM:-0500
TZOFFSETTO:-0400
TZNAME:EDT
DTSTART:20250309T070000
END:DAYLIGHT
BEGIN:STANDARD
TZOFFSETFROM:-0400
TZOFFSETTO:-0500
TZNAME:EST
DTSTART:20251102T060000
END:STANDARD
BEGIN:DAYLIGHT
TZOFFSETFROM:-0500
TZOFFSETTO:-0400
TZNAME:EDT
DTSTART:20260308T070000
END:DAYLIGHT
BEGIN:STANDARD
TZOFFSETFROM:-0400
TZOFFSETTO:-0500
TZNAME:EST
DTSTART:20261101T060000
END:STANDARD
BEGIN:DAYLIGHT
TZOFFSETFROM:-0500
TZOFFSETTO:-0400
TZNAME:EDT
DTSTART:20270314T070000
END:DAYLIGHT
BEGIN:STANDARD
TZOFFSETFROM:-0400
TZOFFSETTO:-0500
TZNAME:EST
DTSTART:20271107T060000
END:STANDARD
END:VTIMEZONE
BEGIN:VEVENT
DTSTART;TZID=America/New_York:20260601T140000
DTEND;TZID=America/New_York:20260601T153000
DTSTAMP:20260420T211437
CREATED:20260420T154510Z
LAST-MODIFIED:20260420T154510Z
UID:221538-1780322400-1780327800@www.deborahleeluskin.com
SUMMARY:Into the Wilderness with Rhoda Goldman Book Group\, San Francisco
DESCRIPTION:“a perfectly gratifying read” \nInto the Wilderness\, hailed as “a fiercely intelligent love story\,” is an award-winning novel about two sixty-somethings at inflection points in their lives. \nRose Mayer has just buried her second husband and wonders what she’s going to do with the rest of her life. Reluctantly\, she visits her son’s summer place in Vermont\, where there are neither sidewalks\, Democrats\, nor other Jews. She meets Percy Mendell at the Orton Fourth of July book sale and takes an immediate dislike. \nPercy’s a born and bred Vermonter who has never married\, never voted for a Democrat\, and never left the state. After a satisfying career as the county’s agricultural agent\, he’s facing retirement and doesn’t know what he’ll do unmoored from work. He meets Rose again at the Marlboro Music Festival\, where music becomes their common language. Set against the backdrop of Vermont’s changing politics and seasons\, Into the Wilderness is testament to the endurance of the human heart. \nThis story of silver love is set in small-town Vermont in 1964\, where “Luskin weaves together an enchanting tale of solitude\, friendship\, and romance.” ~The Jewish Advocate
URL:https://www.deborahleeluskin.com/event/into-the-wilderness-with-rhoda-goldman-book-group-san-francisco/
LOCATION:Rhoda Goldman Plaza\, 2180 Post St\, San Francisco\, CA\, United States
CATEGORIES:Book Event,Freedom of Aging,Into the Wilderness,Second Chances
ATTACH;FMTTYPE=image/jpeg:https://www.deborahleeluskin.com/wp-content/uploads/2026/03/ITW-Front.jpg
END:VEVENT
END:VCALENDAR